Package: limpca Version: 1.6.0 Command: /home/biocbuild/bbs-3.22-bioc/R/bin/R CMD build --keep-empty-dirs --no-resave-data --md5 limpca StartedAt: 2025-11-06 18:22:30 -0500 (Thu, 06 Nov 2025) EndedAt: 2025-11-06 18:24:44 -0500 (Thu, 06 Nov 2025) EllapsedTime: 134.2 seconds RetCode: 0 Status: OK PackageFile: limpca_1.6.0.tar.gz PackageFileSize: 4.739 MiB