Package: limpa Version: 1.2.0 Command: /home/biocbuild/bbs-3.22-bioc/R/bin/R CMD INSTALL limpa StartedAt: 2025-11-03 15:02:43 -0500 (Mon, 03 Nov 2025) EndedAt: 2025-11-03 15:02:55 -0500 (Mon, 03 Nov 2025) EllapsedTime: 12.1 seconds RetCode: 0 Status: OK