Package: limpa Version: 1.2.0 Command: /home/biocbuild/bbs-3.22-bioc/R/bin/R CMD build --keep-empty-dirs --no-resave-data --md5 limpa StartedAt: 2025-11-02 18:37:43 -0500 (Sun, 02 Nov 2025) EndedAt: 2025-11-02 18:37:53 -0500 (Sun, 02 Nov 2025) EllapsedTime: 10.0 seconds RetCode: 0 Status: OK PackageFile: limpa_1.2.0.tar.gz PackageFileSize: 542.3 KiB