Package: limmaGUI Version: 1.85.0 Command: /Library/Frameworks/R.framework/Resources/bin/R CMD INSTALL limmaGUI StartedAt: 2025-10-27 15:04:58 -0400 (Mon, 27 Oct 2025) EndedAt: 2025-10-27 15:05:35 -0400 (Mon, 27 Oct 2025) EllapsedTime: 36.5 seconds RetCode: 0 Status: OK