Package: limmaGUI Version: 1.85.0 Command: /Library/Frameworks/R.framework/Resources/bin/R CMD build --keep-empty-dirs --no-resave-data limmaGUI StartedAt: 2025-10-24 17:36:16 -0400 (Fri, 24 Oct 2025) EndedAt: 2025-10-24 17:36:59 -0400 (Fri, 24 Oct 2025) EllapsedTime: 43.5 seconds RetCode: 0 Status: OK PackageFile: limmaGUI_1.85.0.tar.gz PackageFileSize: 5.345 MiB