Package: limmaGUI Version: 1.85.0 Command: /Library/Frameworks/R.framework/Resources/bin/R CMD INSTALL limmaGUI StartedAt: 2025-10-26 15:02:42 -0400 (Sun, 26 Oct 2025) EndedAt: 2025-10-26 15:02:51 -0400 (Sun, 26 Oct 2025) EllapsedTime: 8.9 seconds RetCode: 0 Status: OK