Package: limmaGUI Version: 1.85.0 Command: /Library/Frameworks/R.framework/Resources/bin/R CMD build --keep-empty-dirs --no-resave-data limmaGUI StartedAt: 2025-10-26 17:00:31 -0400 (Sun, 26 Oct 2025) EndedAt: 2025-10-26 17:00:41 -0400 (Sun, 26 Oct 2025) EllapsedTime: 10.1 seconds RetCode: 0 Status: OK PackageFile: limmaGUI_1.85.0.tar.gz PackageFileSize: 5.346 MiB