Package: limma Version: 3.65.7 Command: /home/biocbuild/bbs-3.22-bioc/R/bin/R CMD INSTALL limma StartedAt: 2025-10-27 15:04:36 -0400 (Mon, 27 Oct 2025) EndedAt: 2025-10-27 15:04:58 -0400 (Mon, 27 Oct 2025) EllapsedTime: 22.6 seconds RetCode: 0 Status: OK