Package: limma Version: 3.65.7 Command: /home/biocbuild/bbs-3.22-bioc/R/bin/R CMD build --keep-empty-dirs --no-resave-data --md5 limma StartedAt: 2025-10-27 18:22:13 -0400 (Mon, 27 Oct 2025) EndedAt: 2025-10-27 18:22:38 -0400 (Mon, 27 Oct 2025) EllapsedTime: 25.0 seconds RetCode: 0 Status: OK PackageFile: limma_3.65.7.tar.gz PackageFileSize: 2.724 MiB