Package: lfa Version: 2.10.0 Command: /home/biocbuild/bbs-3.22-bioc/R/bin/R CMD build --keep-empty-dirs --no-resave-data --md5 lfa StartedAt: 2025-11-06 18:22:10 -0500 (Thu, 06 Nov 2025) EndedAt: 2025-11-06 18:22:20 -0500 (Thu, 06 Nov 2025) EllapsedTime: 10.1 seconds RetCode: 0 Status: OK PackageFile: lfa_2.10.0.tar.gz PackageFileSize: 343.1 KiB