Package: levi Version: 1.27.0 Command: /home/biocbuild/bbs-3.22-bioc/R/bin/R CMD INSTALL levi StartedAt: 2025-10-24 15:20:52 -0400 (Fri, 24 Oct 2025) EndedAt: 2025-10-24 15:21:11 -0400 (Fri, 24 Oct 2025) EllapsedTime: 19.2 seconds RetCode: 0 Status: OK