Package: lemur Version: 1.8.0 Command: /home/biocbuild/bbs-3.22-bioc/R/bin/R CMD INSTALL lemur StartedAt: 2025-11-06 15:25:42 -0500 (Thu, 06 Nov 2025) EndedAt: 2025-11-06 15:26:19 -0500 (Thu, 06 Nov 2025) EllapsedTime: 37.7 seconds RetCode: 0 Status: OK