Package: lemur Version: 1.8.0 Command: /home/biocbuild/bbs-3.22-bioc/R/bin/R CMD build --keep-empty-dirs --no-resave-data --md5 lemur StartedAt: 2025-11-06 18:21:44 -0500 (Thu, 06 Nov 2025) EndedAt: 2025-11-06 18:23:16 -0500 (Thu, 06 Nov 2025) EllapsedTime: 91.1 seconds RetCode: 0 Status: OK PackageFile: lemur_1.8.0.tar.gz PackageFileSize: 2.411 MiB