Package: lefser Version: 1.19.1 Command: /home/biocbuild/bbs-3.22-bioc/R/bin/R CMD INSTALL lefser StartedAt: 2025-10-24 16:07:11 -0400 (Fri, 24 Oct 2025) EndedAt: 2025-10-24 16:07:38 -0400 (Fri, 24 Oct 2025) EllapsedTime: 26.7 seconds RetCode: 0 Status: OK