Package: lapmix Version: 1.75.0 Command: /home/biocbuild/bbs-3.22-bioc/R/bin/R CMD INSTALL lapmix StartedAt: 2025-10-27 15:14:17 -0400 (Mon, 27 Oct 2025) EndedAt: 2025-10-27 15:14:19 -0400 (Mon, 27 Oct 2025) EllapsedTime: 1.2 seconds RetCode: 1 Status: ERROR