Package: kmcut Version: 1.3.0 Command: /home/biocbuild/bbs-3.22-bioc/R/bin/R CMD INSTALL kmcut StartedAt: 2025-10-27 15:26:26 -0400 (Mon, 27 Oct 2025) EndedAt: 2025-10-27 15:26:48 -0400 (Mon, 27 Oct 2025) EllapsedTime: 21.2 seconds RetCode: 0 Status: OK