Package: kmcut Version: 1.4.0 Command: /Library/Frameworks/R.framework/Resources/bin/R CMD INSTALL kmcut StartedAt: 2025-11-10 15:14:57 -0500 (Mon, 10 Nov 2025) EndedAt: 2025-11-10 15:15:05 -0500 (Mon, 10 Nov 2025) EllapsedTime: 8.2 seconds RetCode: 0 Status: OK