Package: kmcut Version: 1.4.0 Command: rm -rf kmcut.buildbin-libdir && mkdir kmcut.buildbin-libdir && /Users/biocbuild/BBS/utils/build-universal.sh kmcut_1.4.0.tar.gz /Library/Frameworks/R.framework/Resources/bin/R kmcut.buildbin-libdir StartedAt: 2025-11-10 23:24:46 -0500 (Mon, 10 Nov 2025) EndedAt: 2025-11-10 23:24:55 -0500 (Mon, 10 Nov 2025) EllapsedTime: 9.2 seconds RetCode: 0 Status: OK PackageFile: kmcut_1.4.0.tgz PackageFileSize: 1.279 MiB