Package: kebabs Version: 1.43.1 Command: /home/biocbuild/bbs-3.22-bioc/R/bin/R CMD INSTALL kebabs StartedAt: 2025-10-24 15:25:56 -0400 (Fri, 24 Oct 2025) EndedAt: 2025-10-24 15:27:30 -0400 (Fri, 24 Oct 2025) EllapsedTime: 94.6 seconds RetCode: 0 Status: OK