Package: kebabs Version: 1.44.0 Command: /Library/Frameworks/R.framework/Resources/bin/R CMD INSTALL kebabs StartedAt: 2025-11-03 15:22:18 -0500 (Mon, 03 Nov 2025) EndedAt: 2025-11-03 15:24:06 -0500 (Mon, 03 Nov 2025) EllapsedTime: 107.8 seconds RetCode: 0 Status: OK