Package: kebabs Version: 1.44.0 Command: /Library/Frameworks/R.framework/Resources/bin/R CMD build --keep-empty-dirs --no-resave-data kebabs StartedAt: 2025-11-03 17:31:46 -0500 (Mon, 03 Nov 2025) EndedAt: 2025-11-03 17:36:20 -0500 (Mon, 03 Nov 2025) EllapsedTime: 274.1 seconds RetCode: 0 Status: OK PackageFile: kebabs_1.44.0.tar.gz PackageFileSize: 2.254 MiB