Package: kebabs Version: 1.43.1 Command: /Library/Frameworks/R.framework/Resources/bin/R CMD build --keep-empty-dirs --no-resave-data kebabs StartedAt: 2025-10-24 16:51:34 -0400 (Fri, 24 Oct 2025) EndedAt: 2025-10-24 16:53:19 -0400 (Fri, 24 Oct 2025) EllapsedTime: 104.3 seconds RetCode: 0 Status: OK PackageFile: kebabs_1.43.1.tar.gz PackageFileSize: 2.263 MiB