Package: katdetectr Version: 1.11.1 Command: /home/biocbuild/bbs-3.22-bioc/R/bin/R CMD INSTALL katdetectr StartedAt: 2025-10-24 15:53:21 -0400 (Fri, 24 Oct 2025) EndedAt: 2025-10-24 15:54:01 -0400 (Fri, 24 Oct 2025) EllapsedTime: 39.2 seconds RetCode: 0 Status: OK