Package: katdetectr Version: 1.12.0 Command: /home/biocbuild/bbs-3.22-bioc/R/bin/R CMD check --install=check:katdetectr.install-out.txt --library=/home/biocbuild/bbs-3.22-bioc/R/site-library --timings katdetectr_1.12.0.tar.gz StartedAt: 2025-10-31 00:48:23 -0400 (Fri, 31 Oct 2025) EndedAt: 2025-10-31 00:54:14 -0400 (Fri, 31 Oct 2025) EllapsedTime: 351.4 seconds RetCode: 0 Status: OK CheckDir: katdetectr.Rcheck Warnings: 0