Package: katdetectr Version: 1.11.1 Command: /Library/Frameworks/R.framework/Resources/bin/R CMD INSTALL katdetectr StartedAt: 2025-10-24 15:45:35 -0400 (Fri, 24 Oct 2025) EndedAt: 2025-10-24 15:46:28 -0400 (Fri, 24 Oct 2025) EllapsedTime: 53.2 seconds RetCode: 0 Status: OK