Package: katdetectr Version: 1.11.1 Command: /Library/Frameworks/R.framework/Resources/bin/R CMD build --keep-empty-dirs --no-resave-data katdetectr StartedAt: 2025-10-24 17:34:29 -0400 (Fri, 24 Oct 2025) EndedAt: 2025-10-24 17:36:01 -0400 (Fri, 24 Oct 2025) EllapsedTime: 91.5 seconds RetCode: 0 Status: OK PackageFile: katdetectr_1.11.1.tar.gz PackageFileSize: 1.457 MiB