Package: katdetectr Version: 1.11.1 Command: /Library/Frameworks/R.framework/Resources/bin/R CMD INSTALL katdetectr StartedAt: 2025-10-27 15:21:58 -0400 (Mon, 27 Oct 2025) EndedAt: 2025-10-27 15:22:14 -0400 (Mon, 27 Oct 2025) EllapsedTime: 16.2 seconds RetCode: 0 Status: OK