Package: katdetectr Version: 1.11.1 Command: /Library/Frameworks/R.framework/Resources/bin/R CMD build --keep-empty-dirs --no-resave-data katdetectr StartedAt: 2025-10-26 16:58:58 -0400 (Sun, 26 Oct 2025) EndedAt: 2025-10-26 16:59:25 -0400 (Sun, 26 Oct 2025) EllapsedTime: 27.3 seconds RetCode: 0 Status: OK PackageFile: katdetectr_1.11.1.tar.gz PackageFileSize: 1.483 MiB