Package: katdetectr Version: 1.11.1 Command: rm -rf katdetectr.buildbin-libdir && mkdir katdetectr.buildbin-libdir && /Users/biocbuild/BBS/utils/build-universal.sh katdetectr_1.11.1.tar.gz /Library/Frameworks/R.framework/Resources/bin/R katdetectr.buildbin-libdir StartedAt: 2025-10-26 22:39:21 -0400 (Sun, 26 Oct 2025) EndedAt: 2025-10-26 22:39:38 -0400 (Sun, 26 Oct 2025) EllapsedTime: 16.4 seconds RetCode: 0 Status: OK PackageFile: katdetectr_1.11.1.tgz PackageFileSize: 1.816 MiB