Package: jazzPanda Version: 1.1.3 Command: /home/biocbuild/bbs-3.22-bioc/R/bin/R CMD INSTALL jazzPanda StartedAt: 2025-10-24 15:32:35 -0400 (Fri, 24 Oct 2025) EndedAt: 2025-10-24 15:33:06 -0400 (Fri, 24 Oct 2025) EllapsedTime: 30.9 seconds RetCode: 0 Status: OK