Package: iterativeBMAsurv Version: 1.68.0 Command: /home/biocbuild/bbs-3.22-bioc/R/bin/R CMD check --install=check:iterativeBMAsurv.install-out.txt --library=/home/biocbuild/bbs-3.22-bioc/R/site-library --timings iterativeBMAsurv_1.68.0.tar.gz StartedAt: 2025-11-21 01:32:47 -0500 (Fri, 21 Nov 2025) EndedAt: 2025-11-21 01:34:13 -0500 (Fri, 21 Nov 2025) EllapsedTime: 86.0 seconds RetCode: 0 Status: WARNINGS CheckDir: iterativeBMAsurv.Rcheck Warnings: 1