Package: iterativeBMAsurv Version: 1.68.0 Command: /Library/Frameworks/R.framework/Resources/bin/R CMD INSTALL iterativeBMAsurv StartedAt: 2025-10-31 15:16:43 -0400 (Fri, 31 Oct 2025) EndedAt: 2025-10-31 15:17:18 -0400 (Fri, 31 Oct 2025) EllapsedTime: 34.2 seconds RetCode: 0 Status: OK