Package: iterativeBMAsurv Version: 1.68.0 Command: /Library/Frameworks/R.framework/Resources/bin/R CMD build --keep-empty-dirs --no-resave-data iterativeBMAsurv StartedAt: 2025-10-31 17:34:46 -0400 (Fri, 31 Oct 2025) EndedAt: 2025-10-31 17:35:14 -0400 (Fri, 31 Oct 2025) EllapsedTime: 28.3 seconds RetCode: 0 Status: OK PackageFile: iterativeBMAsurv_1.68.0.tar.gz PackageFileSize: 196.7 KiB