Package: iterativeBMA Version: 1.68.0 Command: /home/biocbuild/R/R/bin/R CMD INSTALL iterativeBMA StartedAt: 2025-11-20 22:00:14 -0000 (Thu, 20 Nov 2025) EndedAt: 2025-11-20 22:00:24 -0000 (Thu, 20 Nov 2025) EllapsedTime: 9.9 seconds RetCode: 0 Status: OK