Package: iterativeBMA Version: 1.67.0 Command: /home/biocbuild/bbs-3.22-bioc/R/bin/R CMD build --keep-empty-dirs --no-resave-data --md5 iterativeBMA StartedAt: 2025-10-24 18:28:47 -0400 (Fri, 24 Oct 2025) EndedAt: 2025-10-24 18:29:03 -0400 (Fri, 24 Oct 2025) EllapsedTime: 15.0 seconds RetCode: 0 Status: OK PackageFile: iterativeBMA_1.67.0.tar.gz PackageFileSize: 160.1 KiB