Package: iterativeBMA Version: 1.67.0 Command: /Library/Frameworks/R.framework/Resources/bin/R CMD INSTALL iterativeBMA StartedAt: 2025-10-24 15:09:37 -0400 (Fri, 24 Oct 2025) EndedAt: 2025-10-24 15:09:40 -0400 (Fri, 24 Oct 2025) EllapsedTime: 2.8 seconds RetCode: 0 Status: OK