Package: iterativeBMA Version: 1.67.0 Command: /Library/Frameworks/R.framework/Resources/bin/R CMD build --keep-empty-dirs --no-resave-data iterativeBMA StartedAt: 2025-10-24 16:50:56 -0400 (Fri, 24 Oct 2025) EndedAt: 2025-10-24 16:51:04 -0400 (Fri, 24 Oct 2025) EllapsedTime: 8.1 seconds RetCode: 0 Status: OK PackageFile: iterativeBMA_1.67.0.tar.gz PackageFileSize: 159 KiB