Package: iterativeBMA Version: 1.67.0 Command: rm -rf iterativeBMA.buildbin-libdir && mkdir iterativeBMA.buildbin-libdir && /Users/biocbuild/BBS/utils/build-universal.sh iterativeBMA_1.67.0.tar.gz /Library/Frameworks/R.framework/Resources/bin/R iterativeBMA.buildbin-libdir StartedAt: 2025-10-24 23:07:26 -0400 (Fri, 24 Oct 2025) EndedAt: 2025-10-24 23:07:30 -0400 (Fri, 24 Oct 2025) EllapsedTime: 4.1 seconds RetCode: 0 Status: OK PackageFile: iterativeBMA_1.67.0.tgz PackageFileSize: 215.7 KiB