Package: isomiRs Version: 1.37.1 Command: /home/biocbuild/bbs-3.22-bioc/R/bin/R CMD INSTALL isomiRs StartedAt: 2025-10-27 15:37:50 -0400 (Mon, 27 Oct 2025) EndedAt: 2025-10-27 15:38:36 -0400 (Mon, 27 Oct 2025) EllapsedTime: 45.4 seconds RetCode: 0 Status: OK