Package: isomiRs Version: 1.37.1 Command: /home/biocbuild/bbs-3.22-bioc/R/bin/R CMD build --keep-empty-dirs --no-resave-data --md5 isomiRs StartedAt: 2025-10-27 18:19:02 -0400 (Mon, 27 Oct 2025) EndedAt: 2025-10-27 18:20:20 -0400 (Mon, 27 Oct 2025) EllapsedTime: 78.1 seconds RetCode: 0 Status: OK PackageFile: isomiRs_1.37.1.tar.gz PackageFileSize: 4.166 MiB