Package: isobar Version: 1.55.0 Command: /home/biocbuild/bbs-3.22-bioc/R/bin/R CMD INSTALL isobar StartedAt: 2025-10-24 15:36:58 -0400 (Fri, 24 Oct 2025) EndedAt: 2025-10-24 15:37:28 -0400 (Fri, 24 Oct 2025) EllapsedTime: 30.2 seconds RetCode: 0 Status: OK