Package: isobar Version: 1.56.0 Command: /Library/Frameworks/R.framework/Resources/bin/R CMD INSTALL isobar StartedAt: 2025-11-10 15:09:15 -0500 (Mon, 10 Nov 2025) EndedAt: 2025-11-10 15:09:27 -0500 (Mon, 10 Nov 2025) EllapsedTime: 11.8 seconds RetCode: 0 Status: OK