Package: isobar Version: 1.56.0 Command: /Library/Frameworks/R.framework/Resources/bin/R CMD build --keep-empty-dirs --no-resave-data isobar StartedAt: 2025-11-10 16:49:08 -0500 (Mon, 10 Nov 2025) EndedAt: 2025-11-10 16:49:44 -0500 (Mon, 10 Nov 2025) EllapsedTime: 36.4 seconds RetCode: 0 Status: OK PackageFile: isobar_1.56.0.tar.gz PackageFileSize: 2.771 MiB