Package: isobar Version: 1.56.0 Command: rm -rf isobar.buildbin-libdir && mkdir isobar.buildbin-libdir && /Users/biocbuild/BBS/utils/build-universal.sh isobar_1.56.0.tar.gz /Library/Frameworks/R.framework/Resources/bin/R isobar.buildbin-libdir StartedAt: 2025-11-10 23:24:27 -0500 (Mon, 10 Nov 2025) EndedAt: 2025-11-10 23:24:40 -0500 (Mon, 10 Nov 2025) EllapsedTime: 12.3 seconds RetCode: 0 Status: OK PackageFile: isobar_1.56.0.tgz PackageFileSize: 3.899 MiB