Package: islify Version: 1.1.1 Command: /home/biocbuild/bbs-3.22-bioc/R/bin/R CMD build --keep-empty-dirs --no-resave-data --md5 islify StartedAt: 2025-10-27 18:18:28 -0400 (Mon, 27 Oct 2025) EndedAt: 2025-10-27 18:18:47 -0400 (Mon, 27 Oct 2025) EllapsedTime: 19.0 seconds RetCode: 0 Status: OK PackageFile: islify_1.1.1.tar.gz PackageFileSize: 3.046 MiB