Package: iscream Version: 0.99.8 Command: /home/biocbuild/bbs-3.22-bioc/R/bin/R CMD INSTALL iscream StartedAt: 2025-10-24 15:21:32 -0400 (Fri, 24 Oct 2025) EndedAt: 2025-10-24 15:23:24 -0400 (Fri, 24 Oct 2025) EllapsedTime: 112.1 seconds RetCode: 0 Status: OK