Package: iscream Version: 0.99.8 Command: /home/biocbuild/bbs-3.22-bioc/R/bin/R CMD build --keep-empty-dirs --no-resave-data --md5 iscream StartedAt: 2025-10-24 18:26:30 -0400 (Fri, 24 Oct 2025) EndedAt: 2025-10-24 18:28:52 -0400 (Fri, 24 Oct 2025) EllapsedTime: 142.2 seconds RetCode: 0 Status: OK PackageFile: iscream_0.99.8.tar.gz PackageFileSize: 3.821 MiB