Package: interactiveDisplayBase Version: 1.47.1 Command: /home/biocbuild/R/R/bin/R CMD check --install=check:interactiveDisplayBase.install-out.txt --library=/home/biocbuild/R/R/site-library --no-vignettes --timings interactiveDisplayBase_1.47.1.tar.gz StartedAt: 2025-10-17 10:17:00 -0000 (Fri, 17 Oct 2025) EndedAt: 2025-10-17 10:17:30 -0000 (Fri, 17 Oct 2025) EllapsedTime: 30.0 seconds RetCode: 0 Status: OK CheckDir: interactiveDisplayBase.Rcheck Warnings: 0