Package: interactiveDisplayBase Version: 1.47.1 Command: /Library/Frameworks/R.framework/Resources/bin/R CMD check --install=check:interactiveDisplayBase.install-out.txt --library=/Library/Frameworks/R.framework/Resources/library --no-vignettes --timings interactiveDisplayBase_1.47.1.tar.gz StartedAt: 2025-10-27 20:18:29 -0400 (Mon, 27 Oct 2025) EndedAt: 2025-10-27 20:18:43 -0400 (Mon, 27 Oct 2025) EllapsedTime: 14.2 seconds RetCode: 0 Status: OK CheckDir: interactiveDisplayBase.Rcheck Warnings: 0