Package: interactiveDisplay Version: 1.47.1 Command: /home/biocbuild/R/R/bin/R CMD INSTALL interactiveDisplay StartedAt: 2025-10-23 21:23:16 -0000 (Thu, 23 Oct 2025) EndedAt: 2025-10-23 21:23:47 -0000 (Thu, 23 Oct 2025) EllapsedTime: 31.9 seconds RetCode: 0 Status: OK